BEGIN:VCALENDAR
VERSION:2.0
PRODID:-//wp-events-plugin.com//7.2.3.1//EN
TZID:America/Indiana/Knox
X-WR-TIMEZONE:America/Indiana/Knox
BEGIN:VEVENT
UID:56@tennesseeconservativenews.com
DTSTART;TZID=America/New_York:20250513T183000
DTEND;TZID=America/New_York:20250513T203000
DTSTAMP:20250512T104438Z
URL:https://tennesseeconservativenews.com/events/roane-for-liberty-hosting
 -j6er-wrongly-incarcerated-by-biden-administration/
SUMMARY:Roane For Liberty Hosting J6’er Wrongly Incarcerated By Biden Adm
 inistration
DESCRIPTION:ROANE FOR LIBERTY  is hosting STEWART PARKS\, a J6’er\, who
  was wrongly incarcerated by the Biden administration for daring to prote
 st the 2020 election results.\n\nCome and hear his amazing story\, come an
 d hear the TRUTH about what really happened on January 6th.\n\nCome and 
 hear about “Tyranny in Action”.\n\nDATE &amp\; TIME :  Tuesday\,  M
 ay 13TH  6:30 pm\n\nWHERE :  \n\nKingston Community Center\n\n201 Patt
 on Ferry Rd\n\nKingston\, TN  37763\n\nThis is a FREE event\, come earl
 y as seating is limited to the first 200.
LOCATION:Kingston Community Center\, 201 Patton Ferry Rd \, Kingston\, TN\,
  37763\, United States
X-APPLE-STRUCTURED-LOCATION;VALUE=URI;X-ADDRESS=201 Patton Ferry Rd \, King
 ston\, TN\, 37763\, United States;X-APPLE-RADIUS=100;X-TITLE=Kingston Comm
 unity Center:geo:0,0
END:VEVENT
BEGIN:VTIMEZONE
TZID:America/New_York
X-LIC-LOCATION:America/New_York
BEGIN:DAYLIGHT
DTSTART:20250309T030000
TZOFFSETFROM:-0500
TZOFFSETTO:-0400
TZNAME:EDT
END:DAYLIGHT
END:VTIMEZONE
END:VCALENDAR