BEGIN:VCALENDAR
VERSION:2.0
PRODID:-//wp-events-plugin.com//7.2.3.1//EN
TZID:America/Indiana/Knox
X-WR-TIMEZONE:America/Indiana/Knox
BEGIN:VEVENT
UID:89@tennesseeconservativenews.com
DTSTART;TZID=America/New_York:20251021T183000
DTEND;TZID=America/New_York:20251021T203000
DTSTAMP:20251016T103319Z
URL:https://tennesseeconservativenews.com/events/tennessee-neighbors-for-l
 iberty-presents-brandon-lewis-of-the-tennessee-conservative/
SUMMARY:Tennessee Neighbors for Liberty presents Brandon Lewis of The Tenne
 ssee Conservative
DESCRIPTION:Our first evening meeting!  Brandon Lewis of Tennessee Conserv
 ative News will be presenting that evening.\n\n&nbsp\;\n\nEl Meson at Hami
 lton Place\n\n2204 Hamilton Pl Blvd\, Chattanooga\, TN 37421\n\n6:30 PM Ea
 stern\n\n&nbsp\;
ATTACH;FMTTYPE=image/jpeg:https://tennesseeconservativenews.com/wp-content
 /uploads/2025/10/Event-Appearance-TTC.png
LOCATION:El Meson at Hamilton Place\, 2204 Hamilton Pl Blvd\, Chattanooga\,
  TN\, 37421\, United States
X-APPLE-STRUCTURED-LOCATION;VALUE=URI;X-ADDRESS=2204 Hamilton Pl Blvd\, Cha
 ttanooga\, TN\, 37421\, United States;X-APPLE-RADIUS=100;X-TITLE=El Meson 
 at Hamilton Place:geo:0,0
END:VEVENT
BEGIN:VTIMEZONE
TZID:America/New_York
X-LIC-LOCATION:America/New_York
BEGIN:DAYLIGHT
DTSTART:20250309T030000
TZOFFSETFROM:-0500
TZOFFSETTO:-0400
TZNAME:EDT
END:DAYLIGHT
END:VTIMEZONE
END:VCALENDAR